BEGIN:VCALENDAR
VERSION:2.0
PRODID:-//empowercdc.org//NONSGML kigkonsult.se iCalcreator 2.30.10//
CALSCALE:GREGORIAN
METHOD:PUBLISH
UID:f1edf6d5-f4f6-4bb3-9529-a4996eb39bb4
X-WR-CALDESC:
X-WR-RELCALID:40abadfb3f4181f95d86416b001ca821
X-WR-TIMEZONE:America/Chicago
BEGIN:VTIMEZONE
TZID:America/Chicago
BEGIN:STANDARD
TZNAME:CST
DTSTART:20201101T020000
TZOFFSETFROM:-0500
TZOFFSETTO:-0600
RDATE:20211107T020000
END:STANDARD
BEGIN:DAYLIGHT
TZNAME:CDT
DTSTART:20200308T020000
TZOFFSETFROM:-0600
TZOFFSETTO:-0500
RDATE:20210314T020000
RDATE:20220313T020000
END:DAYLIGHT
END:VTIMEZONE
BEGIN:VEVENT
UID:469262cf-5b68-4a3d-9ef9-32722d4fe0f1
DTSTAMP:20260424T220920Z
DESCRIPTION:
DTSTART;TZID=America/Chicago:20201119T120000
DTEND;TZID=America/Chicago:20201119T123000
LOCATION:
SUMMARY:Outdoor Birthday Social
END:VEVENT
END:VCALENDAR
