BEGIN:VCALENDAR
VERSION:2.0
PRODID:-//empowercdc.org//NONSGML kigkonsult.se iCalcreator 2.30.10//
CALSCALE:GREGORIAN
METHOD:PUBLISH
UID:1d2ed44a-5b95-4d00-96ac-294ac88d39a0
X-WR-CALDESC:
X-WR-RELCALID:cb3266bc7350dde64655d885f80f1f38
X-WR-TIMEZONE:America/Chicago
BEGIN:VTIMEZONE
TZID:America/Chicago
BEGIN:STANDARD
TZNAME:CST
DTSTART:20201101T020000
TZOFFSETFROM:-0500
TZOFFSETTO:-0600
RDATE:20211107T020000
END:STANDARD
BEGIN:DAYLIGHT
TZNAME:CDT
DTSTART:20200308T020000
TZOFFSETFROM:-0600
TZOFFSETTO:-0500
RDATE:20210314T020000
RDATE:20220313T020000
END:DAYLIGHT
END:VTIMEZONE
BEGIN:VEVENT
UID:4f2e5def-23af-404f-ae32-52608deb9012
DTSTAMP:20260424T220813Z
DESCRIPTION:
DTSTART;TZID=America/Chicago:20201119T093000
DTEND;TZID=America/Chicago:20201119T170000
LOCATION:
SUMMARY:Last Day to Enter Door Decorating Competition
END:VEVENT
END:VCALENDAR
