BEGIN:VCALENDAR
VERSION:2.0
PRODID:-//empowercdc.org//NONSGML kigkonsult.se iCalcreator 2.30.10//
CALSCALE:GREGORIAN
METHOD:PUBLISH
UID:e299cfe6-fbf1-4f33-af2e-48a49eb0d483
X-WR-CALDESC:
X-WR-RELCALID:95b2aa67a10c4e456694d746c7d8992b
X-WR-TIMEZONE:America/Chicago
BEGIN:VTIMEZONE
TZID:America/Chicago
BEGIN:STANDARD
TZNAME:CST
DTSTART:20201101T020000
TZOFFSETFROM:-0500
TZOFFSETTO:-0600
RDATE:20211107T020000
END:STANDARD
BEGIN:DAYLIGHT
TZNAME:CDT
DTSTART:20200308T020000
TZOFFSETFROM:-0600
TZOFFSETTO:-0500
RDATE:20210314T020000
RDATE:20220313T020000
END:DAYLIGHT
END:VTIMEZONE
BEGIN:VEVENT
UID:a920e361-087d-46ed-a51f-b4b60dfa9ead
DTSTAMP:20260424T220741Z
DESCRIPTION:
DTSTART;TZID=America/Chicago:20201118T120000
DTEND;TZID=America/Chicago:20201118T130000
LOCATION:
SUMMARY:Weekly Inspirations
END:VEVENT
END:VCALENDAR
