BEGIN:VCALENDAR
VERSION:2.0
PRODID:-//empowercdc.org//NONSGML kigkonsult.se iCalcreator 2.30.10//
CALSCALE:GREGORIAN
METHOD:PUBLISH
UID:9f4121a8-5441-450f-a960-55c293ce9eba
X-WR-CALDESC:
X-WR-RELCALID:4b0b425fa4583fa09ac1cf983d0ebf4b
X-WR-TIMEZONE:America/Chicago
BEGIN:VTIMEZONE
TZID:America/Chicago
BEGIN:STANDARD
TZNAME:CST
DTSTART:20201101T020000
TZOFFSETFROM:-0500
TZOFFSETTO:-0600
RDATE:20211107T020000
END:STANDARD
BEGIN:DAYLIGHT
TZNAME:CDT
DTSTART:20200308T020000
TZOFFSETFROM:-0600
TZOFFSETTO:-0500
RDATE:20210314T020000
RDATE:20220313T020000
END:DAYLIGHT
END:VTIMEZONE
BEGIN:VEVENT
UID:48fe7033-4647-49f3-92e0-4dd279a36c93
DTSTAMP:20260424T220650Z
DESCRIPTION:
DTSTART;TZID=America/Chicago:20201118T090000
DTEND;TZID=America/Chicago:20201118T093000
LOCATION:
SUMMARY:Weekly Inspirations
END:VEVENT
END:VCALENDAR
