BEGIN:VCALENDAR
VERSION:2.0
PRODID:-//empowercdc.org//NONSGML kigkonsult.se iCalcreator 2.30.10//
CALSCALE:GREGORIAN
METHOD:PUBLISH
UID:10d7ad64-c4a9-47ac-91ce-4cf7e4270a10
X-WR-CALDESC:
X-WR-RELCALID:d9250af032b33c53a346aa2661609f58
X-WR-TIMEZONE:America/Chicago
BEGIN:VTIMEZONE
TZID:America/Chicago
BEGIN:STANDARD
TZNAME:CST
DTSTART:20201101T020000
TZOFFSETFROM:-0500
TZOFFSETTO:-0600
RDATE:20211107T020000
END:STANDARD
BEGIN:DAYLIGHT
TZNAME:CDT
DTSTART:20200308T020000
TZOFFSETFROM:-0600
TZOFFSETTO:-0500
RDATE:20210314T020000
RDATE:20220313T020000
END:DAYLIGHT
END:VTIMEZONE
BEGIN:VEVENT
UID:dbd8e0c6-2a2f-4040-8764-d4651848d400
DTSTAMP:20260424T234758Z
DESCRIPTION:
DTSTART;TZID=America/Chicago:20201117T120000
DTEND;TZID=America/Chicago:20201117T130000
LOCATION:
SUMMARY:Trivia Grab N' Go
END:VEVENT
END:VCALENDAR
