BEGIN:VCALENDAR
VERSION:2.0
PRODID:-//empowercdc.org//NONSGML kigkonsult.se iCalcreator 2.30.10//
CALSCALE:GREGORIAN
METHOD:PUBLISH
UID:52be55e3-f670-4441-a057-56e9b5b621c1
X-WR-CALDESC:
X-WR-RELCALID:286fcabd175c9545fb853464872324f8
X-WR-TIMEZONE:America/Chicago
BEGIN:VTIMEZONE
TZID:America/Chicago
BEGIN:STANDARD
TZNAME:CST
DTSTART:20201101T020000
TZOFFSETFROM:-0500
TZOFFSETTO:-0600
RDATE:20211107T020000
END:STANDARD
BEGIN:DAYLIGHT
TZNAME:CDT
DTSTART:20200308T020000
TZOFFSETFROM:-0600
TZOFFSETTO:-0500
RDATE:20210314T020000
RDATE:20220313T020000
END:DAYLIGHT
END:VTIMEZONE
BEGIN:VEVENT
UID:0aca7c4d-a302-4c40-a36d-2cb156538035
DTSTAMP:20260424T220521Z
DESCRIPTION:
DTSTART;TZID=America/Chicago:20201117T140000
DTEND;TZID=America/Chicago:20201117T143000
LOCATION:
SUMMARY:FALL DOOR DECORATING KIT DISTRIBUTION
END:VEVENT
END:VCALENDAR
