BEGIN:VCALENDAR
VERSION:2.0
PRODID:-//empowercdc.org//NONSGML kigkonsult.se iCalcreator 2.30.10//
CALSCALE:GREGORIAN
METHOD:PUBLISH
UID:bf77d41c-21db-46a0-81d0-c4e499ef1d2d
X-WR-CALDESC:
X-WR-RELCALID:6d37b29979de2817f8d8219be728cc2e
X-WR-TIMEZONE:America/Chicago
BEGIN:VTIMEZONE
TZID:America/Chicago
BEGIN:STANDARD
TZNAME:CST
DTSTART:20201101T020000
TZOFFSETFROM:-0500
TZOFFSETTO:-0600
RDATE:20211107T020000
END:STANDARD
BEGIN:DAYLIGHT
TZNAME:CDT
DTSTART:20200308T020000
TZOFFSETFROM:-0600
TZOFFSETTO:-0500
RDATE:20210314T020000
RDATE:20220313T020000
END:DAYLIGHT
END:VTIMEZONE
BEGIN:VEVENT
UID:054171c2-df74-4cd1-8dfa-d79817508756
DTSTAMP:20260424T220612Z
DESCRIPTION:
DTSTART;TZID=America/Chicago:20201116T100000
DTEND;TZID=America/Chicago:20201116T103000
LOCATION:
SUMMARY:Fall Door Decoration Contest
END:VEVENT
END:VCALENDAR
