BEGIN:VCALENDAR
VERSION:2.0
PRODID:-//empowercdc.org//NONSGML kigkonsult.se iCalcreator 2.30.10//
CALSCALE:GREGORIAN
METHOD:PUBLISH
UID:97fdcc03-8680-449c-aa83-50c276d2e3f8
X-WR-CALDESC:
X-WR-RELCALID:d8a047e9df3fc7560efdddb7942afbc8
X-WR-TIMEZONE:America/Chicago
BEGIN:VTIMEZONE
TZID:America/Chicago
BEGIN:STANDARD
TZNAME:CST
DTSTART:20201101T020000
TZOFFSETFROM:-0500
TZOFFSETTO:-0600
RDATE:20211107T020000
END:STANDARD
BEGIN:DAYLIGHT
TZNAME:CDT
DTSTART:20200308T020000
TZOFFSETFROM:-0600
TZOFFSETTO:-0500
RDATE:20210314T020000
RDATE:20220313T020000
END:DAYLIGHT
END:VTIMEZONE
BEGIN:VEVENT
UID:5ebcffba-055f-43fb-afff-548a47d96124
DTSTAMP:20260424T234803Z
DESCRIPTION:
DTSTART;TZID=America/Chicago:20201112T100000
DTEND;TZID=America/Chicago:20201112T103000
LOCATION:
SUMMARY:Food Assistance Distribution
END:VEVENT
END:VCALENDAR
