BEGIN:VCALENDAR
VERSION:2.0
PRODID:-//empowercdc.org//NONSGML kigkonsult.se iCalcreator 2.30.10//
CALSCALE:GREGORIAN
METHOD:PUBLISH
UID:1458e869-b288-4b45-932b-b1e80507b66f
X-WR-CALDESC:
X-WR-RELCALID:285d94c65b29a4877c9587779e68b6ad
X-WR-TIMEZONE:America/Chicago
BEGIN:VTIMEZONE
TZID:America/Chicago
BEGIN:STANDARD
TZNAME:CST
DTSTART:20201101T020000
TZOFFSETFROM:-0500
TZOFFSETTO:-0600
RDATE:20211107T020000
END:STANDARD
BEGIN:DAYLIGHT
TZNAME:CDT
DTSTART:20200308T020000
TZOFFSETFROM:-0600
TZOFFSETTO:-0500
RDATE:20210314T020000
RDATE:20220313T020000
END:DAYLIGHT
END:VTIMEZONE
BEGIN:VEVENT
UID:9fe11276-ba22-47c0-a8cb-a0f353b5f652
DTSTAMP:20260424T220521Z
DESCRIPTION:
DTSTART;TZID=America/Chicago:20201112T120000
DTEND;TZID=America/Chicago:20201112T123000
LOCATION:
SUMMARY:Container Gardening Kit Social
END:VEVENT
END:VCALENDAR
