BEGIN:VCALENDAR
VERSION:2.0
PRODID:-//empowercdc.org//NONSGML kigkonsult.se iCalcreator 2.30.10//
CALSCALE:GREGORIAN
METHOD:PUBLISH
UID:8bad1a0d-fc6f-41be-b3ee-c6fc81d9f2ec
X-WR-CALDESC:
X-WR-RELCALID:bb0d8bda4abdc9c5578954d42e6237c0
X-WR-TIMEZONE:America/Chicago
BEGIN:VTIMEZONE
TZID:America/Chicago
BEGIN:STANDARD
TZNAME:CST
DTSTART:20201101T020000
TZOFFSETFROM:-0500
TZOFFSETTO:-0600
RDATE:20211107T020000
END:STANDARD
BEGIN:DAYLIGHT
TZNAME:CDT
DTSTART:20200308T020000
TZOFFSETFROM:-0600
TZOFFSETTO:-0500
RDATE:20210314T020000
RDATE:20220313T020000
END:DAYLIGHT
END:VTIMEZONE
BEGIN:VEVENT
UID:f5e861da-d7da-464d-8faa-411445ebe501
DTSTAMP:20260424T220807Z
DESCRIPTION:
DTSTART;TZID=America/Chicago:20201112T090000
DTEND;TZID=America/Chicago:20201112T100000
LOCATION:
SUMMARY:Annual Health Fair
END:VEVENT
END:VCALENDAR
