BEGIN:VCALENDAR
VERSION:2.0
PRODID:-//empowercdc.org//NONSGML kigkonsult.se iCalcreator 2.30.10//
CALSCALE:GREGORIAN
METHOD:PUBLISH
UID:8f8f9ecc-483b-4af2-b364-661f2dce350c
X-WR-CALDESC:
X-WR-RELCALID:322a92435434d10c7d91c73af8cef9f0
X-WR-TIMEZONE:America/Chicago
BEGIN:VTIMEZONE
TZID:America/Chicago
BEGIN:STANDARD
TZNAME:CST
DTSTART:20201101T020000
TZOFFSETFROM:-0500
TZOFFSETTO:-0600
RDATE:20211107T020000
END:STANDARD
BEGIN:DAYLIGHT
TZNAME:CDT
DTSTART:20200308T020000
TZOFFSETFROM:-0600
TZOFFSETTO:-0500
RDATE:20210314T020000
RDATE:20220313T020000
END:DAYLIGHT
END:VTIMEZONE
BEGIN:VEVENT
UID:95d4c250-bf59-46d8-91b7-b7025cd2cf45
DTSTAMP:20260424T220643Z
DESCRIPTION:
DTSTART;TZID=America/Chicago:20201111T120000
DTEND;TZID=America/Chicago:20201111T130000
LOCATION:
SUMMARY:Weekly Inspirations
END:VEVENT
END:VCALENDAR
