BEGIN:VCALENDAR
VERSION:2.0
PRODID:-//empowercdc.org//NONSGML kigkonsult.se iCalcreator 2.30.10//
CALSCALE:GREGORIAN
METHOD:PUBLISH
UID:d4d0353d-7528-4c76-9431-85a2ad451677
X-WR-CALDESC:
X-WR-RELCALID:a0b9eb345f4aa924384745368a1e149a
X-WR-TIMEZONE:America/Chicago
BEGIN:VTIMEZONE
TZID:America/Chicago
BEGIN:STANDARD
TZNAME:CST
DTSTART:20201101T020000
TZOFFSETFROM:-0500
TZOFFSETTO:-0600
RDATE:20211107T020000
END:STANDARD
BEGIN:DAYLIGHT
TZNAME:CDT
DTSTART:20200308T020000
TZOFFSETFROM:-0600
TZOFFSETTO:-0500
RDATE:20210314T020000
RDATE:20220313T020000
END:DAYLIGHT
END:VTIMEZONE
BEGIN:VEVENT
UID:ea9af873-e5c7-43ab-8d80-24f53965eec2
DTSTAMP:20260424T220623Z
DESCRIPTION:
DTSTART;TZID=America/Chicago:20201110T140000
DTEND;TZID=America/Chicago:20201110T143000
LOCATION:
SUMMARY:FALL DOOR DECORATING KIT DISTRIBUTION
END:VEVENT
END:VCALENDAR
