BEGIN:VCALENDAR
VERSION:2.0
PRODID:-//empowercdc.org//NONSGML kigkonsult.se iCalcreator 2.30.10//
CALSCALE:GREGORIAN
METHOD:PUBLISH
UID:085ed0f7-0ffb-4d77-90f2-431b3cf516ad
X-WR-CALDESC:
X-WR-RELCALID:299c69d343365b987217acac2a0ac7a2
X-WR-TIMEZONE:America/Chicago
BEGIN:VTIMEZONE
TZID:America/Chicago
BEGIN:STANDARD
TZNAME:CST
DTSTART:20201101T020000
TZOFFSETFROM:-0500
TZOFFSETTO:-0600
RDATE:20211107T020000
END:STANDARD
BEGIN:DAYLIGHT
TZNAME:CDT
DTSTART:20200308T020000
TZOFFSETFROM:-0600
TZOFFSETTO:-0500
RDATE:20210314T020000
RDATE:20220313T020000
END:DAYLIGHT
END:VTIMEZONE
BEGIN:VEVENT
UID:dca81a3c-4cfb-4ebb-9bc5-6c869a986ae5
DTSTAMP:20260424T220448Z
DESCRIPTION:
DTSTART;TZID=America/Chicago:20201106T160000
DTEND;TZID=America/Chicago:20201106T170000
LOCATION:
SUMMARY:Growing Gratitude
END:VEVENT
END:VCALENDAR
