BEGIN:VCALENDAR
VERSION:2.0
PRODID:-//empowercdc.org//NONSGML kigkonsult.se iCalcreator 2.30.10//
CALSCALE:GREGORIAN
METHOD:PUBLISH
UID:faeb9850-7928-43a3-a6c5-3d0e9172330e
X-WR-CALDESC:
X-WR-RELCALID:808641942b822eb05f5cffc2a285ee05
X-WR-TIMEZONE:America/Chicago
BEGIN:VTIMEZONE
TZID:America/Chicago
BEGIN:STANDARD
TZNAME:CST
DTSTART:20201101T020000
TZOFFSETFROM:-0500
TZOFFSETTO:-0600
RDATE:20211107T020000
END:STANDARD
BEGIN:DAYLIGHT
TZNAME:CDT
DTSTART:20200308T020000
TZOFFSETFROM:-0600
TZOFFSETTO:-0500
RDATE:20210314T020000
RDATE:20220313T020000
END:DAYLIGHT
END:VTIMEZONE
BEGIN:VEVENT
UID:447baf48-bed1-4899-b311-98a5997bbdff
DTSTAMP:20260424T234353Z
DESCRIPTION:
DTSTART;TZID=America/Chicago:20201104T090000
DTEND;TZID=America/Chicago:20201104T093000
LOCATION:
SUMMARY:Weekly Inspirations
END:VEVENT
END:VCALENDAR
