BEGIN:VCALENDAR
VERSION:2.0
PRODID:-//empowercdc.org//NONSGML kigkonsult.se iCalcreator 2.30.10//
CALSCALE:GREGORIAN
METHOD:PUBLISH
UID:b25597f1-032c-48ab-86e1-8de7788dbd77
X-WR-CALDESC:Come and join this fun arts and crafts activity for the whole 
 family!
X-WR-RELCALID:7b22c05eeb0e6155df57d74d26e9f98a
X-WR-TIMEZONE:America/Chicago
BEGIN:VTIMEZONE
TZID:America/Chicago
BEGIN:STANDARD
TZNAME:CST
DTSTART:20191103T020000
TZOFFSETFROM:-0500
TZOFFSETTO:-0600
RDATE:20201101T020000
RDATE:20211107T020000
END:STANDARD
BEGIN:DAYLIGHT
TZNAME:CDT
DTSTART:20200308T020000
TZOFFSETFROM:-0600
TZOFFSETTO:-0500
RDATE:20210314T020000
END:DAYLIGHT
END:VTIMEZONE
BEGIN:VEVENT
UID:062bf700-336a-4ed4-b42e-3ee387c04d45
DTSTAMP:20260422T001113Z
DESCRIPTION:Come and join this fun arts and crafts activity for the whole f
 amily!
DTSTART;TZID=America/Chicago:20200721T143000
DTEND;TZID=America/Chicago:20200721T153000
LOCATION:Community Center
SUMMARY:Summer Arts & Crafts
END:VEVENT
END:VCALENDAR
